BEGIN:VCALENDAR
VERSION:2.0
PRODID:-//Divadlo GONG - ECPv6.15.14//NONSGML v1.0//EN
CALSCALE:GREGORIAN
METHOD:PUBLISH
X-ORIGINAL-URL:https://www.divadlogong.cz
X-WR-CALDESC:Akce na Divadlo GONG
REFRESH-INTERVAL;VALUE=DURATION:PT1H
X-Robots-Tag:noindex
X-PUBLISHED-TTL:PT1H
BEGIN:VTIMEZONE
TZID:Europe/Prague
BEGIN:DAYLIGHT
TZOFFSETFROM:+0100
TZOFFSETTO:+0200
TZNAME:CEST
DTSTART:20250330T010000
END:DAYLIGHT
BEGIN:STANDARD
TZOFFSETFROM:+0200
TZOFFSETTO:+0100
TZNAME:CET
DTSTART:20251026T010000
END:STANDARD
BEGIN:DAYLIGHT
TZOFFSETFROM:+0100
TZOFFSETTO:+0200
TZNAME:CEST
DTSTART:20260329T010000
END:DAYLIGHT
BEGIN:STANDARD
TZOFFSETFROM:+0200
TZOFFSETTO:+0100
TZNAME:CET
DTSTART:20261025T010000
END:STANDARD
BEGIN:DAYLIGHT
TZOFFSETFROM:+0100
TZOFFSETTO:+0200
TZNAME:CEST
DTSTART:20270328T010000
END:DAYLIGHT
BEGIN:STANDARD
TZOFFSETFROM:+0200
TZOFFSETTO:+0100
TZNAME:CET
DTSTART:20271031T010000
END:STANDARD
END:VTIMEZONE
BEGIN:VEVENT
DTSTART;TZID=Europe/Prague:20260121T190000
DTEND;TZID=Europe/Prague:20260121T190000
DTSTAMP:20260421T150300
CREATED:20251117T224443Z
LAST-MODIFIED:20251117T224443Z
UID:9886-1769022000-1769022000@www.divadlogong.cz
SUMMARY:NEIL SIMON: BOSÉ NOHY V PARKU
DESCRIPTION:Jak žít ve dvou\, když zrovna platí\, že se protiklady přitahují? V hlavních rolích Veronika Freimanová a Rudolf Hrušínský. \nVíce informací \nKoupit vstupenky
URL:https://www.divadlogong.cz/predstaveni/neil-simon-bose-nohy-v-parku-3/
CATEGORIES:Divadlo Gong
ATTACH;FMTTYPE=image/jpeg:https://www.divadlogong.cz/wp-content/uploads/2024/11/Bose-nohy-v-parku.jpg
END:VEVENT
BEGIN:VEVENT
DTSTART;TZID=Europe/Prague:20260122T190000
DTEND;TZID=Europe/Prague:20260122T190000
DTSTAMP:20260421T150300
CREATED:20251017T104716Z
LAST-MODIFIED:20260107T134252Z
UID:9564-1769108400-1769108400@www.divadlogong.cz
SUMMARY:ASONANCE
DESCRIPTION:Koncert skupiny patřící k uznávaným interpretům irských a skotských balad\, tanců a instrumentálních skladeb. Asonance vstupuje do své padesáté sezony a skladby z aktuálního alba Malcolm přiveze i do Gongu. \nVíce informací \nKoupit vstupenky
URL:https://www.divadlogong.cz/predstaveni/asonance-2/
CATEGORIES:Divadlo Gong
ATTACH;FMTTYPE=image/jpeg:https://www.divadlogong.cz/wp-content/uploads/2025/10/Asonance_2022.jpg
END:VEVENT
BEGIN:VEVENT
DTSTART;TZID=Europe/Prague:20260123T100000
DTEND;TZID=Europe/Prague:20260123T100000
DTSTAMP:20260421T150300
CREATED:20251209T094529Z
LAST-MODIFIED:20251209T094529Z
UID:10259-1769162400-1769162400@www.divadlogong.cz
SUMMARY:O. PREUSSLER\, P. JOHANSSON: MALÁ ČARODĚJNICE
DESCRIPTION:Kouzelné příběhy nerozlučné dvojice malé čarodějnice\, která už chce konečně patřit mezi velké\, a jejího věrného druha a rádce havrana Abraxase.\nPohádkový písničkál\, ve kterém se nejen zpívá a tančí\, ale taky kouzlí. Uprostřed hlubokého lesa stojí malý domek. V něm žije pouhých 127 let mladá čarodějnice\, která se svým věrným kamarádem mluvícím havranem Abraxasem překonává těžkosti čarodějného řemesla. Má přání i touhy a rozhodne se svoje sny přeměnit ve skutečnost. K tomu je ale zapotřebí složit těžkou zkoušku a stát se opravdovou a dobrou čarodějnicí. Budeme po celý rok sledovat malou čarodějnici a její velkou proměnu… Bude to na složení zkoušky stačit? \nRežie a dramatizace: Petra Johansson\nHrají: Natálie Topinková\, Kryštof Nohýnek\, Magdaléna Hniličková\, Vratislav Hadraba \n60 minut bez pauzy \nVíce informací \nKoupit vstupenky
URL:https://www.divadlogong.cz/predstaveni/o-preussler-p-johansson-mala-carodejnice-27/
CATEGORIES:Gong dětem
ATTACH;FMTTYPE=image/jpeg:https://www.divadlogong.cz/wp-content/uploads/2023/08/mala-carodejnice-7.jpeg
END:VEVENT
BEGIN:VEVENT
DTSTART;TZID=Europe/Prague:20260123T190000
DTEND;TZID=Europe/Prague:20260123T190000
DTSTAMP:20260421T150300
CREATED:20251117T133430Z
LAST-MODIFIED:20251117T133430Z
UID:9848-1769194800-1769194800@www.divadlogong.cz
SUMMARY:ROBERT BELLAN: NORMÁLNÍ DEBIL
DESCRIPTION:Příhody z autorova dětství prožitého v socialistickém Československu v retrokomedii na motivy stejnojmenné knihy. V hlavní roli Zbigniew Kalina. \nVíce informací \nKoupit vstupenky
URL:https://www.divadlogong.cz/predstaveni/robert-bellan-normalni-debil-19/
CATEGORIES:Divadlo Gong
ATTACH;FMTTYPE=image/jpeg:https://www.divadlogong.cz/wp-content/uploads/2025/05/Normalni-debil-1.jpg
END:VEVENT
BEGIN:VEVENT
DTSTART;TZID=Europe/Prague:20260124T110000
DTEND;TZID=Europe/Prague:20260124T110000
DTSTAMP:20260421T150300
CREATED:20250527T144453Z
LAST-MODIFIED:20250919T092852Z
UID:8849-1769252400-1769252400@www.divadlogong.cz
SUMMARY:M. TWAIN\, V. ŠTĚPÁNEK: DOBRODRUŽSTVÍ TOMA SAWYERA
DESCRIPTION:Škola? Pche! To je přece ztráta času\, když venku se zatím dají zažít velká dobrodružství. \nTom je obyčejný kluk\, který bydlí se svou svéráznou tetičkou Polly v malém městečku. Škola ho tedy moc nebaví. O životě se toho přeci může naučit mnohem víc od svého kamaráda Hucka Finna\, zanedbaného syna místního opilce. Tuhle dvojku mají místní za známé firmy\, klukům totiž netrvá nikdy dlouho vymyslet nějakou originální lotrovinu. Ztřeštěné nápady ale Tomovi a Huckovi nejednou pořádně zkomplikují život. \nRežie a scénář: Vojtěch Štěpánek\nVýprava: Miroslav Král\nHrají: Kryštof Nohýnek\, Vratislav Hadraba\, Natálie Topinková/Jiřina Daňhelová\, Jakub Stich\, Radovan Klučka \n65 minut bez pauzy \nVíce informací \nKoupit vstupenky
URL:https://www.divadlogong.cz/predstaveni/m-twain-v-stepanek-dobrodruzstvi-toma-sawyera-19/
CATEGORIES:Gong dětem
ATTACH;FMTTYPE=image/jpeg:https://www.divadlogong.cz/wp-content/uploads/2023/08/dobrodruzstvi-toma-sawyera-web-03.jpg
END:VEVENT
BEGIN:VEVENT
DTSTART;TZID=Europe/Prague:20260125T100000
DTEND;TZID=Europe/Prague:20260125T100000
DTSTAMP:20260421T150300
CREATED:20251201T134915Z
LAST-MODIFIED:20251201T134915Z
UID:10080-1769335200-1769335200@www.divadlogong.cz
SUMMARY:NOVOROČNÍ KONCERT PŘEDŠKOLNÍCH OBORŮ HUDEBNÍHO KNOFLÍKU
DESCRIPTION:Přehlídka malých i větších žáků předškolních oborů hudební školy Knoflík.
URL:https://www.divadlogong.cz/predstaveni/novorocni-koncert-predskolnich-oboru-hudebniho-knofliku-2/
CATEGORIES:Divadlo Gong
ATTACH;FMTTYPE=image/jpeg:https://www.divadlogong.cz/wp-content/uploads/2023/12/hudebni-knoflik.jpeg
END:VEVENT
BEGIN:VEVENT
DTSTART;TZID=Europe/Prague:20260125T143000
DTEND;TZID=Europe/Prague:20260125T143000
DTSTAMP:20260421T150300
CREATED:20251201T134911Z
LAST-MODIFIED:20251201T134911Z
UID:10081-1769351400-1769351400@www.divadlogong.cz
SUMMARY:NOVOROČNÍ KONCERT PŘEDŠKOLNÍCH OBORŮ HUDEBNÍHO KNOFLÍKU
DESCRIPTION:Přehlídka malých i větších žáků předškolních oborů hudební školy Knoflík.
URL:https://www.divadlogong.cz/predstaveni/novorocni-koncert-predskolnich-oboru-hudebniho-knofliku/
CATEGORIES:Divadlo Gong
ATTACH;FMTTYPE=image/jpeg:https://www.divadlogong.cz/wp-content/uploads/2023/12/hudebni-knoflik.jpeg
END:VEVENT
BEGIN:VEVENT
DTSTART;TZID=Europe/Prague:20260126T100000
DTEND;TZID=Europe/Prague:20260126T100000
DTSTAMP:20260421T150300
CREATED:20250527T114546Z
LAST-MODIFIED:20250527T114546Z
UID:8794-1769421600-1769421600@www.divadlogong.cz
SUMMARY:D. BENEŠ: JAK JSEM NECHTĚL VYRŮST
DESCRIPTION:Když dospělí nebudou trochu dětmi\, nebudou chtít děti být dospělými. \nPohádková hudební komedie o chlapci\, který natolik nedůvěřuje světu dospělých\, že se rozhodne prostě nevyrůst. Jeho rodina to těžce nese a při snaze zvrátit toto rozhodnutí s ním zažívá celou řadu komických příhod. Zábavná sonda do vztahů mezi malými a velkými\, dospělými a dětmi. A takové malé ohlédnutí do minulosti\, kdy ještě nebyly mobilní telefony a v televizi běžel jen jeden program. \nScénář a režie: David Beneš\nVýprava: Tereza Vydarená\nHrají: Ondřej Švec\, Kryštof Nohýnek\, Jakub Stich\, Vratislav Hadraba\, Natálie Topinková a Kristýna Žďánská \n60 minut bez pauzy \n\nVíce informací \nKoupit vstupenky
URL:https://www.divadlogong.cz/predstaveni/d-benes-jak-jsem-nechtel-vyrust-22/
CATEGORIES:Gong dětem
ATTACH;FMTTYPE=image/jpeg:https://www.divadlogong.cz/wp-content/uploads/2023/08/jak-jsem-nechtel-vyrust-4.jpeg
END:VEVENT
BEGIN:VEVENT
DTSTART;TZID=Europe/Prague:20260126T190000
DTEND;TZID=Europe/Prague:20260126T190000
DTSTAMP:20260421T150300
CREATED:20251117T224712Z
LAST-MODIFIED:20251117T224712Z
UID:9888-1769454000-1769454000@www.divadlogong.cz
SUMMARY:CO VY NA TO\, PANE ŠMOLDASI?
DESCRIPTION:Večer plný humoru s oblíbeným moderátorem\, básníkem a překladatelem.\nVíce informací\nKoupit vstupenky
URL:https://www.divadlogong.cz/predstaveni/co-vy-na-to-pane-smoldasi-4/
CATEGORIES:Divadlo Gong
ATTACH;FMTTYPE=image/jpeg:https://www.divadlogong.cz/wp-content/uploads/2025/05/Co-vy-na-to-pane-Smoldasi.jpg
END:VEVENT
BEGIN:VEVENT
DTSTART;TZID=Europe/Prague:20260127T100000
DTEND;TZID=Europe/Prague:20260127T100000
DTSTAMP:20260421T150300
CREATED:20250523T111255Z
LAST-MODIFIED:20250523T111255Z
UID:8752-1769508000-1769508000@www.divadlogong.cz
SUMMARY:J. FOGLAR\, O. LÁŽNOVSKÝ: ZÁHADA HLAVOLAMU
DESCRIPTION:Kultovní klukovský napínavý román s hororovými prvky převedený na divadelní prkna. \nChtěli byste se vznést do nebe na létajícím kole? Není nic snazšího. Stačí se jen odvážit vkročit do temných\, úzkých a křivolakých uliček Stínadel\, čtvrti se špatnou pověstí. Někde tam by totiž měl být skryt legendární hlavolam „ježek v kleci“\, do jehož srdce mladý vynálezce Jan Tleskač vložil plánek na výrobu létajícího velocipédu. Jenže ve Stínadlech není pro žádného chlapce ani dívku dvakrát bezpečno\, vládnou tam totiž party divokých kluků\, kteří se hrdě nazývají Vontové. Tvůrce na tento dnes již klasický příběh nahlíží s laskavou nadsázkou i humorem a vhodně jej přibližuje současným divákům. \nRežie: Ondřej Lážnovský\nHrají: Radovan Klučka\, Vratislav Hadraba\, Miloš Mazal\, Jakub Stich\, Kryštof Nohýnek\, Magdalena Lážnovská\, Martin Jurajda \n65 minut bez pauzy \nVíce informací \nKoupit vstupenky
URL:https://www.divadlogong.cz/predstaveni/j-foglar-o-laznovsky-zahada-hlavolamu-21/
CATEGORIES:Gong dětem
ATTACH;FMTTYPE=image/jpeg:https://www.divadlogong.cz/wp-content/uploads/2024/04/zahada_hlavolamu-06-scaled.jpg
END:VEVENT
BEGIN:VEVENT
DTSTART;TZID=Europe/Prague:20260127T190000
DTEND;TZID=Europe/Prague:20260127T190000
DTSTAMP:20260421T150300
CREATED:20251017T105751Z
LAST-MODIFIED:20260107T134030Z
UID:9569-1769540400-1769540400@www.divadlogong.cz
SUMMARY:MALINA BROTHERS
DESCRIPTION:V loňském roce tomu bylo 15 let\, kdy bratři Malinové\, dnes veličiny bluegrassové hudby u nás\, založili spolu s kontrabasistou Pavlem Peroutkou skupinu Malina Brothers. Kapela vyráží od ledna do dubna na turné\, na kterém zazní to nejlepší z jejich patnáctileté kariéry. Malina Brothers za sebou mají několik koncertů v USA\, natočili pět řadových CD a jubilejní DVD s hosty Charliem McCoyem a Kateřinou García. Posluchači se mohou těšit na písně jako Stín staré řeky\, A život běží dál nebo Rychlejší koně\, ale také na ty nové z aktuálního alba V peřejích. \nVíce informací \nKoupit vstupenky
URL:https://www.divadlogong.cz/predstaveni/malina-brothers-2/
CATEGORIES:Divadlo Gong
ATTACH;FMTTYPE=image/jpeg:https://www.divadlogong.cz/wp-content/uploads/2025/10/2026-Malina-Brothers-tisk-scaled.jpg
END:VEVENT
BEGIN:VEVENT
DTSTART;TZID=Europe/Prague:20260128T100000
DTEND;TZID=Europe/Prague:20260128T100000
DTSTAMP:20260421T150300
CREATED:20250620T131749Z
LAST-MODIFIED:20250620T131749Z
UID:9014-1769594400-1769594400@www.divadlogong.cz
SUMMARY:V. ŠTĚPÁNEK: OBSLUHOVAL JSEM BOHUMILA HRABALA
DESCRIPTION:Životní příběh jednoho z největších českých spisovatelů 20. století\, všímavého zapisovatele\, literáta\, pábitele\, umělce a milovníka koček v originálním jevištním zpracování. \nŽivotní osudy Bohumila Hrabala protkané úryvky z jeho nejslavnějších románů tak\, aby si divák udělal představu o tom\, kdo tento velký muž české literatury 20. století byl a jak bohatý odkaz nám zanechal. Navštívil během svého působení v Libni také Divadlo Gong? Jaké měl kamarády a komu naopak nemohl přijít na jméno? Proč se vůbec rozhodl být spisovatelem a kde čerpal inspiraci? To a ještě mnohem víc. \nScénář a režie: Vojtěch Štěpánek \n60 minut bez pauzy \nVíce informací \nKoupit vstupenky
URL:https://www.divadlogong.cz/predstaveni/v-stepanek-obsluhoval-jsem-bohumila-hrabala-3/
CATEGORIES:Gong dětem
ATTACH;FMTTYPE=image/jpeg:https://www.divadlogong.cz/wp-content/uploads/2025/01/025A0876-scaled.jpg
END:VEVENT
BEGIN:VEVENT
DTSTART;TZID=Europe/Prague:20260128T190000
DTEND;TZID=Europe/Prague:20260128T190000
DTSTAMP:20260421T150300
CREATED:20251117T225100Z
LAST-MODIFIED:20251118T095720Z
UID:9890-1769626800-1769626800@www.divadlogong.cz
SUMMARY:NEIL SIMON: DROBEČKY Z PERNÍKU
DESCRIPTION:Barová zpěvačka Evy se od své nezletilé dcery Polly učí\, jak se má žít. V hlavní roli Simona Stašová. \nVíce informací \nKoupit vstupenky
URL:https://www.divadlogong.cz/predstaveni/neil-simon-drobecky-z-perniku-5/
CATEGORIES:Divadlo Gong
ATTACH;FMTTYPE=image/jpeg:https://www.divadlogong.cz/wp-content/uploads/2024/11/Drobecky-z-perniku.jpg
END:VEVENT
BEGIN:VEVENT
DTSTART;TZID=Europe/Prague:20260129T100000
DTEND;TZID=Europe/Prague:20260129T100000
DTSTAMP:20260421T150300
CREATED:20250527T122147Z
LAST-MODIFIED:20250527T122147Z
UID:8801-1769680800-1769680800@www.divadlogong.cz
SUMMARY:E. PETIŠKA\, R. KLUČKA\, M. MAZAL: BIRLIBÁNOVA PODIVUHODNÁ CESTA
DESCRIPTION:Divotvorná a poučná cesta jednoho zlobivého a rozmazleného kluka za záchranou jeho robotického kamaráda. \nTenhleten kluk jménem Birlibán je vám ale pěkné kvítko. Nejraději by se celý den jen tak poflakoval. A když už má něco dělat\, tak rozhodně ne to\, co mu říkají dospělí. Dokonce to vypadá\, že ho náramně baví dělat přesný opak. Mezi jeho oblíbené „aktivity“ patří mlsání\, hraní počítačových her\, mračení se na celý svět a rozbíjení hraček\, kterých si nejspíš vůbec neváží. Teď to ale asi už vážně přehnal. Když svému nejlepšímu kamarádovi robotovi ulomí ruku\, začne mu to být přeci jen líto. Nezbývá mu\, než svého kámoše z říše hraček následovat do světa\, který se jmenuje Záruční Lhota. Jen tam se totiž rozbitým hračkám může dostat zasloužené opravy. Jenže cesta to bude řádně zamotaná a křivolaká\, vždyť vede přes celou řadu fantastických divadelních končin\, ve kterých na naše hrdiny číhá mnoho nebezpečí. V patách jim navíc bude vrchní rekvizitář pan Liška\, který si rád z pokažených hraček vyrábí jiné užitečné předměty. \nÚprava\, režie a výprava: Radovan Klučka a Miloš Mazal\nHrají: Kryštof Nohýnek\, Martin Jurajda\, Ondřej Švec a Jiří Perůtka \n60 minut bez pauzy \nVíce informací \nKoupit vstupenky
URL:https://www.divadlogong.cz/predstaveni/e-petiska-r-klucka-m-mazal-birlibanova-podivuhodna-cesta-17/
CATEGORIES:Gong dětem
ATTACH;FMTTYPE=image/jpeg:https://www.divadlogong.cz/wp-content/uploads/2023/08/birlibanova-podivuhodna-cesta-3.jpeg
END:VEVENT
BEGIN:VEVENT
DTSTART;TZID=Europe/Prague:20260129T190000
DTEND;TZID=Europe/Prague:20260129T190000
DTSTAMP:20260421T150300
CREATED:20251117T164754Z
LAST-MODIFIED:20251117T164754Z
UID:9868-1769713200-1769713200@www.divadlogong.cz
SUMMARY:PAVEL FIALA\, JOSEF DVOŘÁK: S PYDLOU V ZÁDECH
DESCRIPTION:Prostý lidový chytrák se zaplétá v šachové partii mocných. V hlavní roli Josef Dvořák. \nVíce informací \nKoupit vstupenky
URL:https://www.divadlogong.cz/predstaveni/pavel-fiala-josef-dvorak-s-pydlou-v-zadech-13/
CATEGORIES:Divadlo Gong
ATTACH;FMTTYPE=image/jpeg:https://www.divadlogong.cz/wp-content/uploads/2025/05/S-Pydlou-v-zadech.jpg
END:VEVENT
BEGIN:VEVENT
DTSTART;TZID=Europe/Prague:20260130T190000
DTEND;TZID=Europe/Prague:20260130T190000
DTSTAMP:20260421T150300
CREATED:20251117T223038Z
LAST-MODIFIED:20251117T223135Z
UID:9876-1769799600-1769799600@www.divadlogong.cz
SUMMARY:MARC CAMOLETTI: A DO PYŽAM!
DESCRIPTION:Aby zatajil milenku před vlastní ženou\, vydává ji za milenku svého přítele. Netuší však\, že jeho přítel je zároveň milencem jeho ženy. V hlavních rolích Lucie Zedníčková a Lukáš Langmajer. \nVíce informací \nKoupit vstupenky
URL:https://www.divadlogong.cz/predstaveni/marc-camoletti-a-do-pyzam-17/
CATEGORIES:Divadlo Gong
ATTACH;FMTTYPE=image/jpeg:https://www.divadlogong.cz/wp-content/uploads/2025/11/A-do-pyzam.jpg
END:VEVENT
BEGIN:VEVENT
DTSTART;TZID=Europe/Prague:20260131T150000
DTEND;TZID=Europe/Prague:20260131T150000
DTSTAMP:20260421T150300
CREATED:20250522T183615Z
LAST-MODIFIED:20251014T083302Z
UID:8720-1769871600-1769871600@www.divadlogong.cz
SUMMARY:O. SEKORA\, P. KRAUS\, M. POKORNÝ: PŘÍHODY FERDY MRAVENCE
DESCRIPTION:Napínavá dramata i humorné taškařice broučků\, motýlů\, housenek\, červíků a pavouků odehrávající se v nejtajnějších úkrytech v trávě\, pod kameny i na břehu potoka. \nDůvtipná dramatizace Pavla Krause zachovává nezaměnitelnou Sekorovu poetiku a představuje dětem svět těch maličkých hmyzích tvorečků\, kteří naší pozornosti většinou unikají. Nechte se okouzlit příhodami šikovného mravenčího chlapíka Ferdy\, půvabné berušky\, velkohubého brouka Pytlíka a mnoha jejich dalších hmyzích kumpánů. \nÚprava\, texty písní a režie: Miroslav Pokorný\nScéna: René Dubovský\, Jarmil Škvrna\nKostýmy: Zuzana Hadrabová\nHudba: Petr Moravec\nHrají: Vratislav Hadraba\, Radovan Klučka\, Jakub Stich\, Magdaléna Hniličková\, Kryštof Nohýnek\, Miloš Mazal \n70 minut bez pauzy \nVíce informací \nKoupit vstupenky
URL:https://www.divadlogong.cz/predstaveni/o-sekora-p-kraus-m-pokorny-prihody-ferdy-mravence-21/
CATEGORIES:Gong dětem
ATTACH;FMTTYPE=image/jpeg:https://www.divadlogong.cz/wp-content/uploads/2023/08/prihody-ferdy-mravence-2.jpg
END:VEVENT
BEGIN:VEVENT
DTSTART;TZID=Europe/Prague:20260131T190000
DTEND;TZID=Europe/Prague:20260131T190000
DTSTAMP:20260421T150300
CREATED:20251117T161646Z
LAST-MODIFIED:20251117T161646Z
UID:9858-1769886000-1769886000@www.divadlogong.cz
SUMMARY:ROBERT BELLAN: NORMÁLNÍ DEBIL 2
DESCRIPTION:Volné pokračování divadelního bestseleru\, odehrávající se tentokrát v socialistických letech osmdesátých. V hlavní roli Zbigniew Kalina. \nVíce informací \nKoupit vstupenky
URL:https://www.divadlogong.cz/predstaveni/robert-bellan-normalni-debil-2-16/
CATEGORIES:Divadlo Gong
ATTACH;FMTTYPE=image/jpeg:https://www.divadlogong.cz/wp-content/uploads/2025/05/Normalni-debil-2.jpg
END:VEVENT
BEGIN:VEVENT
DTSTART;TZID=Europe/Prague:20260201T160000
DTEND;TZID=Europe/Prague:20260201T160000
DTSTAMP:20260421T150300
CREATED:20251118T094318Z
LAST-MODIFIED:20251118T094318Z
UID:9903-1769961600-1769961600@www.divadlogong.cz
SUMMARY:ÉRIC ASSOUS: PŘÍBUZNÉ SI NEVYBÍRÁME
DESCRIPTION:Příchod vyzývavé sekretářky na oslavu vnese do rodinných vztahů pěkný zmatek. V hlavních rolích Svatopluk Skopal\, Václav Vydra a Jan Čenský. \nVíce informací \nKoupit vstupenky
URL:https://www.divadlogong.cz/predstaveni/eric-assous-pribuzne-si-nevybirame-3/
CATEGORIES:Divadlo Gong
ATTACH;FMTTYPE=image/jpeg:https://www.divadlogong.cz/wp-content/uploads/2025/05/Pribuzne-si-nevybirame.jpg
END:VEVENT
BEGIN:VEVENT
DTSTART;TZID=Europe/Prague:20260203T190000
DTEND;TZID=Europe/Prague:20260203T190000
DTSTAMP:20260421T150300
CREATED:20251118T094843Z
LAST-MODIFIED:20251118T094843Z
UID:9908-1770145200-1770145200@www.divadlogong.cz
SUMMARY:LUKÁŠ PAVLÁSEK: ZMATENÍ KOMIKŮ
DESCRIPTION:Stand-up comedy speciál Lukáše Pavláska o světě\, ve kterém realita předběhla humor! \nVíce informací \nKoupit vstupenky
URL:https://www.divadlogong.cz/predstaveni/lukas-pavlasek-zmateni-komiku-2/
CATEGORIES:Divadlo Gong
ATTACH;FMTTYPE=image/jpeg:https://www.divadlogong.cz/wp-content/uploads/2025/05/Lukas-Pavlasek-Zmateni-komiku-new.jpg
END:VEVENT
BEGIN:VEVENT
DTSTART;TZID=Europe/Prague:20260204T190000
DTEND;TZID=Europe/Prague:20260204T190000
DTSTAMP:20260421T150300
CREATED:20251118T095110Z
LAST-MODIFIED:20251118T095110Z
UID:9910-1770231600-1770231600@www.divadlogong.cz
SUMMARY:FRANTIŠEK RINGO ČECH: DÍVČÍ VÁLKA
DESCRIPTION:Legendární komedie. Jiráskovy Staré pověsti české zná asi každý z nás. Ovšem ne vše\, co nás ve škole učili a co Alois Jirásek napsal\, musí být pravda! V hlavních rolích František Ringo Čech a Uršula Kluková. \nVíce informací \nKoupit vstupenky
URL:https://www.divadlogong.cz/predstaveni/frantisek-ringo-cech-divci-valka-3/
CATEGORIES:Divadlo Gong
ATTACH;FMTTYPE=image/jpeg:https://www.divadlogong.cz/wp-content/uploads/2024/11/Divci-valka.jpg
END:VEVENT
BEGIN:VEVENT
DTSTART;TZID=Europe/Prague:20260205T100000
DTEND;TZID=Europe/Prague:20260205T100000
DTSTAMP:20260421T150300
CREATED:20251204T150424Z
LAST-MODIFIED:20251204T150424Z
UID:10224-1770285600-1770285600@www.divadlogong.cz
SUMMARY:R. KIPLING\, V ŠTĚPÁNEK: KNIHA DŽUNGLÍ – MAUGLÍHO POSLEDNÍ BOJ
DESCRIPTION:Z lidského mláděte vychovaného vlky vyrostl silný mladý a inteligentní muž. Jeho úhlavní nepřítel zlý tygr Šér Chán se však nevzdává. \nMauglí dospěl a všechna zvířata z džungle udivuje svojí šikovností\, inteligencí a šikovnými nápady\, které zjednodušují život celé vlčí rodině i jeho chlupatým kamarádům. Jenže lidem plyne čas jinak než zvířatům. Zatímco jeho vlčí sourozenci už dávno opustili rodnou jeskyni a založili vlastní rodiny\, Mauglí pozoruje hvězdy a sní. Kdesi ve stínu stromů zatím tygr Šér Chán chystá svoji strašlivou pomstu. Nejdříve však bude muset vzbudit v ostatních obyvatelích pralesa strach z lidského potomka. K tomu má jednu mocnou zbraň – zákony džungle. Hned to první a nejdůležitější pravidlo totiž říká\, že člověk do džungle nepatří. Volné pokračování hry Mauglí o kráse jinakosti a síle přátelství. \nRežie a texty písní: Vojtěch Štěpánek\nScéna a kostýmy: Joanna Mazal Žaganová\nHrají: Vratislav Hadraba\, Radovan Klučka\, Jakub Stich\, Miloš Mazal\, Kryštof Nohýnek\, Adéla Rausová a Denisa Veverková \n60 minut bez pauzy \nVíce informací\nKoupit vstupenky
URL:https://www.divadlogong.cz/predstaveni/r-kipling-v-stepanek-kniha-dzungli-maugliho-posledni-boj-24/
CATEGORIES:Gong dětem
ATTACH;FMTTYPE=image/jpeg:https://www.divadlogong.cz/wp-content/uploads/2023/08/kniha-dzungli-6.jpeg
END:VEVENT
BEGIN:VEVENT
DTSTART;TZID=Europe/Prague:20260206T100000
DTEND;TZID=Europe/Prague:20260206T100000
DTSTAMP:20260421T150300
CREATED:20251202T175904Z
LAST-MODIFIED:20251202T175904Z
UID:10171-1770372000-1770372000@www.divadlogong.cz
SUMMARY:M. TWAIN\, V. ŠTĚPÁNEK: DOBRODRUŽSTVÍ TOMA SAWYERA
DESCRIPTION:Škola? Pche! To je přece ztráta času\, když venku se zatím dají zažít velká dobrodružství. \nTom je obyčejný kluk\, který bydlí se svou svéráznou tetičkou Polly v malém městečku. Škola ho tedy moc nebaví. O životě se toho přeci může naučit mnohem víc od svého kamaráda Hucka Finna\, zanedbaného syna místního opilce. Tuhle dvojku mají místní za známé firmy\, klukům totiž netrvá nikdy dlouho vymyslet nějakou originální lotrovinu. Ztřeštěné nápady ale Tomovi a Huckovi nejednou pořádně zkomplikují život. \nVíce informací \nKoupit vstupenky
URL:https://www.divadlogong.cz/predstaveni/m-twain-v-stepanek-dobrodruzstvi-toma-sawyera-24/
CATEGORIES:Gong dětem
ATTACH;FMTTYPE=image/jpeg:https://www.divadlogong.cz/wp-content/uploads/2023/08/dobrodruzstvi-toma-sawyera-web-03.jpg
END:VEVENT
BEGIN:VEVENT
DTSTART;TZID=Europe/Prague:20260206T190000
DTEND;TZID=Europe/Prague:20260206T190000
DTSTAMP:20260421T150300
CREATED:20260101T161234Z
LAST-MODIFIED:20260130T150805Z
UID:10277-1770404400-1770404400@www.divadlogong.cz
SUMMARY:VOJTĚCH ŠTĚPÁNEK: KDYŽ UŽ TEN WERICH JEDNOU BYL...
DESCRIPTION:Malá scéna\nDivadlo AHA!\nKdyž už člověk jednou byl\, tak by měl koukat\, jakej byl. Scénické čtení k 120. výročí od narození a 45. výročí od úmrtí slavného herce\, spisovatele\, dramatika a lidového filozofa Jana Wericha. \nKoupit vstupenky
URL:https://www.divadlogong.cz/predstaveni/v-stepanek-kdyz-uz-ten-werich-jednou-byl/
CATEGORIES:Divadlo Gong
ATTACH;FMTTYPE=image/png:https://www.divadlogong.cz/wp-content/uploads/2026/01/kdyz-uz-ten-werich-jednou-byl-plakat.png
END:VEVENT
BEGIN:VEVENT
DTSTART;TZID=Europe/Prague:20260207T150000
DTEND;TZID=Europe/Prague:20260207T150000
DTSTAMP:20260421T150300
CREATED:20251201T192710Z
LAST-MODIFIED:20251217T073037Z
UID:10084-1770476400-1770476400@www.divadlogong.cz
SUMMARY:V. VANČURA\, M. POKORNÝ: KUBULA A KUBA KUBIKULA
DESCRIPTION:Pohádka o potulném medvědáři\, jeho malém medvídkovi a přátelském strašidlu. \nMrzne\, až praští\, a medvědář Kuba Kubikula se s medvídkem Kubulou vydávají na dobrodružné putování světem. Koho a co na své cestě potkají a jak jim  z bryndy pomůže strašidlo\, které si sami vymysleli\, se děti dozvědí v pohádce plné písniček\, legrace\, napětí a fantazie. \nRežie\, dramatizace a texty písní: Miroslav Pokorný\nHudba: Tomáš Uhlík\nVýprava: Adéla Kappelerová\nHrají: Miloš Mazal\, Radovan Klučka\, Jakub Stich\, Vratislav Hadraba\, Simona Černá \n65 minut bez pauzy \nVíce informací\nKoupit vstupenky
URL:https://www.divadlogong.cz/predstaveni/v-vancura-m-pokorny-kubula-a-kuba-kubikula-19/
CATEGORIES:Gong dětem
ATTACH;FMTTYPE=image/jpeg:https://www.divadlogong.cz/wp-content/uploads/2023/08/kubula-a-kuba-kubikula-10.jpeg
END:VEVENT
BEGIN:VEVENT
DTSTART;TZID=Europe/Prague:20260208T160000
DTEND;TZID=Europe/Prague:20260208T160000
DTSTAMP:20260421T150300
CREATED:20251117T115339Z
LAST-MODIFIED:20251117T115430Z
UID:9815-1770566400-1770566400@www.divadlogong.cz
SUMMARY:ZDENĚK IZER: VYNDAVACÍ\, ZAS TAM DACÍ
DESCRIPTION:Zábavný pořad plný nezaměnitelného humoru známého komika. \n  \nVíce informací \nKoupit vstupenky
URL:https://www.divadlogong.cz/predstaveni/zdenek-izer-vyndavaci-zas-tam-daci-37/
CATEGORIES:Divadlo Gong
ATTACH;FMTTYPE=image/jpeg:https://www.divadlogong.cz/wp-content/uploads/2025/05/Zdenek-Izer-vyndavaci-zas-tam-daci.jpg
END:VEVENT
BEGIN:VEVENT
DTSTART;TZID=Europe/Prague:20260209T100000
DTEND;TZID=Europe/Prague:20260209T100000
DTSTAMP:20260421T150300
CREATED:20251201T223449Z
LAST-MODIFIED:20251201T223449Z
UID:10138-1770631200-1770631200@www.divadlogong.cz
SUMMARY:K. POLÁČEK\, O. LÁŽNOVSKÝ: BYLO NÁS PĚT
DESCRIPTION:Poetický a laskavý pohled na dětství malého Petra Bajzy a jeho čtyř kamarádů v období první republiky. \nPříběh plný klukovských dobrodružství\, nevinných rošťáren a přátelství se odehrává v maloměstském prostředí\, kde se dětský svět střetává se světem dospělých s humorem i nostalgií. Představení osloví diváky všech generací svou živostí\, nadhledem a citlivým zachycením atmosféry starých časů. \nVíce informací \nKoupit vstupenky
URL:https://www.divadlogong.cz/predstaveni/k-polacek-o-laznovsky-bylo-nas-pet-13/
CATEGORIES:Gong dětem
ATTACH;FMTTYPE=image/jpeg:https://www.divadlogong.cz/wp-content/uploads/2025/10/Bylo.nas_.5-01-scaled.jpg
END:VEVENT
BEGIN:VEVENT
DTSTART;TZID=Europe/Prague:20260209T190000
DTEND;TZID=Europe/Prague:20260209T190000
DTSTAMP:20260421T150300
CREATED:20251027T194704Z
LAST-MODIFIED:20251027T194759Z
UID:9635-1770663600-1770663600@www.divadlogong.cz
SUMMARY:SHOW PETRA JABLONSKÉHO
DESCRIPTION:První celovečerní stand up známého českého imitátora a baviče. \nVíce informací \nKoupit vstupenky \n 
URL:https://www.divadlogong.cz/predstaveni/show-petra-jablonskeho-6/
CATEGORIES:Divadlo Gong
ATTACH;FMTTYPE=image/jpeg:https://www.divadlogong.cz/wp-content/uploads/2025/05/Show-Petra-Jablonskeho.jpg
END:VEVENT
BEGIN:VEVENT
DTSTART;TZID=Europe/Prague:20260210T140000
DTEND;TZID=Europe/Prague:20260210T140000
DTSTAMP:20260421T150300
CREATED:20260116T100906Z
LAST-MODIFIED:20260116T121503Z
UID:10300-1770732000-1770732000@www.divadlogong.cz
SUMMARY:PUTOVÁNÍ NEJEN ZA VÍNEM
DESCRIPTION:Talk show s Václavem Žmolíkem a jeho hosty herečkou Terezou Kostkovou a operní pěvkyní Karolínou Cingrošovou. Odpoledne plné inspirativního povídání\, humoru i nečekaných témat. Václav Žmolík si pozval dvě výrazné osobnosti\, aby společně nahlédli nejen do světa vína\, ale i života\, práce\, vášně a příběhů. \nPředprodej vstupenek pro seniory z trvalým bydlištěm na Městské části Praha 9 na pokladně Divadla Gong\, vstupné 20 Kč/osobu.
URL:https://www.divadlogong.cz/predstaveni/putovani-nejen-za-vinem/
CATEGORIES:Divadlo Gong
ATTACH;FMTTYPE=image/png:https://www.divadlogong.cz/wp-content/uploads/2026/01/zmolik_putovani_nejen_za_vinem.png
END:VEVENT
BEGIN:VEVENT
DTSTART;TZID=Europe/Prague:20260210T190000
DTEND;TZID=Europe/Prague:20260210T190000
DTSTAMP:20260421T150300
CREATED:20260101T161556Z
LAST-MODIFIED:20260101T161556Z
UID:10281-1770750000-1770750000@www.divadlogong.cz
SUMMARY:ANETA KUBEŠOVÁ: DUCH (Z) OSADY
DESCRIPTION:Divadelní spolek Post Scriptum \nOsadníci si rádi užívají svých chatek a klidu. Pohoda však končí\, když v kolonii začne strašit. Jak si chataři se strašidlem poradí? Co do osady každého tak táhne? A co tam pořád lítá ve vzduchu? Detektivní komedie. \nDobrovolné vstupné se vybírá na místě
URL:https://www.divadlogong.cz/predstaveni/aneta-kubesova-duch-z-osady-2/
CATEGORIES:Divadlo Gong
ATTACH;FMTTYPE=image/jpeg:https://www.divadlogong.cz/wp-content/uploads/2025/10/DS-Post-Scriptum-Duch-z-osady.jpg
END:VEVENT
END:VCALENDAR