BEGIN:VCALENDAR
VERSION:2.0
PRODID:-//Divadlo GONG - ECPv6.15.14//NONSGML v1.0//EN
CALSCALE:GREGORIAN
METHOD:PUBLISH
X-WR-CALNAME:Divadlo GONG
X-ORIGINAL-URL:https://www.divadlogong.cz
X-WR-CALDESC:Akce na Divadlo GONG
REFRESH-INTERVAL;VALUE=DURATION:PT1H
X-Robots-Tag:noindex
X-PUBLISHED-TTL:PT1H
BEGIN:VTIMEZONE
TZID:Europe/Prague
BEGIN:DAYLIGHT
TZOFFSETFROM:+0100
TZOFFSETTO:+0200
TZNAME:CEST
DTSTART:20250330T010000
END:DAYLIGHT
BEGIN:STANDARD
TZOFFSETFROM:+0200
TZOFFSETTO:+0100
TZNAME:CET
DTSTART:20251026T010000
END:STANDARD
BEGIN:DAYLIGHT
TZOFFSETFROM:+0100
TZOFFSETTO:+0200
TZNAME:CEST
DTSTART:20260329T010000
END:DAYLIGHT
BEGIN:STANDARD
TZOFFSETFROM:+0200
TZOFFSETTO:+0100
TZNAME:CET
DTSTART:20261025T010000
END:STANDARD
BEGIN:DAYLIGHT
TZOFFSETFROM:+0100
TZOFFSETTO:+0200
TZNAME:CEST
DTSTART:20270328T010000
END:DAYLIGHT
BEGIN:STANDARD
TZOFFSETFROM:+0200
TZOFFSETTO:+0100
TZNAME:CET
DTSTART:20271031T010000
END:STANDARD
END:VTIMEZONE
BEGIN:VEVENT
DTSTART;TZID=Europe/Prague:20260421T100000
DTEND;TZID=Europe/Prague:20260421T100000
DTSTAMP:20260421T114109
CREATED:20251201T231502Z
LAST-MODIFIED:20251201T231502Z
UID:10149-1776765600-1776765600@www.divadlogong.cz
SUMMARY:J. KOLÁŘ\, M. POKORNÝ: DOBRODRUŽSTVÍ KOCOURKA MODROOČKA
DESCRIPTION:Poetická hudební pohádka o tom\, jak jeden kočičí kluk poznával svět. \nPředstavte si\, že jste maličký kocourek\, vlastně teprve kotě\, které se právě narodilo. Svět kolem vás je plný tajemství\, kouzel a prapodivných tvorů a věcí. Zjistit\, jak to tady chodí\, není žádná legrace. Jak máte kupříkladu vědět\, že ta bílá kulatá věc na obloze není miska mléka\, nýbrž měsíc? A co když ty žížaly koušou? Ještě že jsou tu všude okolo velké kočky\, od kterých se dá ledacos odkoukat. A taky tu je krtek nebo křeček\, se kterými si člověk\, tedy pardon – kocour\, užije spoustu švandy. Tak hurá na všechny čtyři tlapky a s chutí prozkoumejme každý kout této krásné zahrady. \nVíce informací \nKoupit vstupenky
URL:https://www.divadlogong.cz/predstaveni/j-kolar-m-pokorny-dobrodruzstvi-kocourka-modroocka-13/
CATEGORIES:Gong dětem
ATTACH;FMTTYPE=image/jpeg:https://www.divadlogong.cz/wp-content/uploads/2023/08/dobrodruzstvi-kocoura-modroocka-4.jpeg
END:VEVENT
BEGIN:VEVENT
DTSTART;TZID=Europe/Prague:20260421T190000
DTEND;TZID=Europe/Prague:20260421T190000
DTSTAMP:20260421T114109
CREATED:20251118T114712Z
LAST-MODIFIED:20251118T114712Z
UID:9963-1776798000-1776798000@www.divadlogong.cz
SUMMARY:FRANCIS VEBER: MANŽELSKÉ TURBULENCE
DESCRIPTION:Největší turbulence nezažijete v letadle\, ale doma v ložnici. Zvlášť když žijete s policajtem. \nVíce informací \nKoupit vstupenky
URL:https://www.divadlogong.cz/predstaveni/francis-veber-manzelske-turbulence-2/
CATEGORIES:Divadlo Gong
ATTACH;FMTTYPE=image/jpeg:https://www.divadlogong.cz/wp-content/uploads/2025/05/Manzelske-turbulence.jpg
END:VEVENT
END:VCALENDAR